BEGIN:VCALENDAR
VERSION:2.0
PRODID:-//Marpiré - ECPv6.15.20//NONSGML v1.0//EN
CALSCALE:GREGORIAN
METHOD:PUBLISH
X-WR-CALNAME:Marpiré
X-ORIGINAL-URL:https://www.marpire.fr
X-WR-CALDESC:Évènements pour Marpiré
REFRESH-INTERVAL;VALUE=DURATION:PT1H
X-Robots-Tag:noindex
X-PUBLISHED-TTL:PT1H
BEGIN:VTIMEZONE
TZID:Europe/Paris
BEGIN:DAYLIGHT
TZOFFSETFROM:+0100
TZOFFSETTO:+0200
TZNAME:CEST
DTSTART:20160327T010000
END:DAYLIGHT
BEGIN:STANDARD
TZOFFSETFROM:+0200
TZOFFSETTO:+0100
TZNAME:CET
DTSTART:20161030T010000
END:STANDARD
BEGIN:DAYLIGHT
TZOFFSETFROM:+0100
TZOFFSETTO:+0200
TZNAME:CEST
DTSTART:20170326T010000
END:DAYLIGHT
BEGIN:STANDARD
TZOFFSETFROM:+0200
TZOFFSETTO:+0100
TZNAME:CET
DTSTART:20171029T010000
END:STANDARD
BEGIN:DAYLIGHT
TZOFFSETFROM:+0100
TZOFFSETTO:+0200
TZNAME:CEST
DTSTART:20180325T010000
END:DAYLIGHT
BEGIN:STANDARD
TZOFFSETFROM:+0200
TZOFFSETTO:+0100
TZNAME:CET
DTSTART:20181028T010000
END:STANDARD
END:VTIMEZONE
BEGIN:VEVENT
DTSTART;TZID=Europe/Paris:20170519T200000
DTEND;TZID=Europe/Paris:20170519T220000
DTSTAMP:20260424T162757
CREATED:20170418T123344Z
LAST-MODIFIED:20170418T124400Z
UID:4351-1495224000-1495231200@www.marpire.fr
SUMMARY:Assemblée Générale ACCA
DESCRIPTION:
URL:https://www.marpire.fr/agenda/assemblee-generale-acca/
LOCATION:Salle des fêtes\, Marpiré\, 35220
ATTACH;FMTTYPE=image/jpeg:https://www.marpire.fr/wp-content/uploads/2017/04/téléchargement1.jpg
END:VEVENT
END:VCALENDAR