BEGIN:VCALENDAR
VERSION:2.0
PRODID:-//Marpiré - ECPv6.15.20//NONSGML v1.0//EN
CALSCALE:GREGORIAN
METHOD:PUBLISH
X-WR-CALNAME:Marpiré
X-ORIGINAL-URL:https://www.marpire.fr
X-WR-CALDESC:Évènements pour Marpiré
REFRESH-INTERVAL;VALUE=DURATION:PT1H
X-Robots-Tag:noindex
X-PUBLISHED-TTL:PT1H
BEGIN:VTIMEZONE
TZID:Europe/Paris
BEGIN:DAYLIGHT
TZOFFSETFROM:+0100
TZOFFSETTO:+0200
TZNAME:CEST
DTSTART:20160327T010000
END:DAYLIGHT
BEGIN:STANDARD
TZOFFSETFROM:+0200
TZOFFSETTO:+0100
TZNAME:CET
DTSTART:20161030T010000
END:STANDARD
BEGIN:DAYLIGHT
TZOFFSETFROM:+0100
TZOFFSETTO:+0200
TZNAME:CEST
DTSTART:20170326T010000
END:DAYLIGHT
BEGIN:STANDARD
TZOFFSETFROM:+0200
TZOFFSETTO:+0100
TZNAME:CET
DTSTART:20171029T010000
END:STANDARD
BEGIN:DAYLIGHT
TZOFFSETFROM:+0100
TZOFFSETTO:+0200
TZNAME:CEST
DTSTART:20180325T010000
END:DAYLIGHT
BEGIN:STANDARD
TZOFFSETFROM:+0200
TZOFFSETTO:+0100
TZNAME:CET
DTSTART:20181028T010000
END:STANDARD
END:VTIMEZONE
BEGIN:VEVENT
DTSTART;VALUE=DATE:20170520
DTEND;VALUE=DATE:20170521
DTSTAMP:20260424T174531
CREATED:20160930T105741Z
LAST-MODIFIED:20160930T105741Z
UID:3765-1495238400-1495324799@www.marpire.fr
SUMMARY:Tournoi Foot et Volley Jeunes
DESCRIPTION:
URL:https://www.marpire.fr/agenda/tournoi-foot-et-volley-jeunes/
ATTACH;FMTTYPE=image/jpeg:https://www.marpire.fr/wp-content/uploads/2016/09/9995411-Balles-pour-diff-rents-types-de-sports-tennis-ballon-basket-football-volley-ball-un-ballon-pour-un-g-Banque-dimages.jpg
END:VEVENT
BEGIN:VEVENT
DTSTART;VALUE=DATE:20170520
DTEND;VALUE=DATE:20170521
DTSTAMP:20260424T174531
CREATED:20170331T094641Z
LAST-MODIFIED:20170331T095044Z
UID:4313-1495238400-1495324799@www.marpire.fr
SUMMARY:Fête de la Nature - La Corbière
DESCRIPTION:
URL:https://www.marpire.fr/agenda/fete-de-la-nature-la-corbiere/
ATTACH;FMTTYPE=image/jpeg:https://www.marpire.fr/wp-content/uploads/2015/11/rn40_2289353_1_px_640_.jpg
END:VEVENT
BEGIN:VEVENT
DTSTART;TZID=Europe/Paris:20170520T140000
DTEND;TZID=Europe/Paris:20170520T170000
DTSTAMP:20260424T174531
CREATED:20170418T124439Z
LAST-MODIFIED:20170418T131829Z
UID:4360-1495288800-1495299600@www.marpire.fr
SUMMARY:Fête de la nature
DESCRIPTION:sur le site de la forêt de la Corbière\, organisée par le Département. \n  \nEvènementiel sous l’égide du ministère de l’environnement et proposé sur l’ensemble du territoire national. \nMise en place de stands d’animation par les agents ENS du Département et par des associations. \nLes articles qui paraitront dans la presse dans les semaines précédant la manifestation donneront plus d’informations. \n 
URL:https://www.marpire.fr/agenda/fete-de-la-nature/
END:VEVENT
END:VCALENDAR