BEGIN:VCALENDAR
VERSION:2.0
PRODID:-//Marpiré - ECPv6.15.20//NONSGML v1.0//EN
CALSCALE:GREGORIAN
METHOD:PUBLISH
X-WR-CALNAME:Marpiré
X-ORIGINAL-URL:https://www.marpire.fr
X-WR-CALDESC:Évènements pour Marpiré
REFRESH-INTERVAL;VALUE=DURATION:PT1H
X-Robots-Tag:noindex
X-PUBLISHED-TTL:PT1H
BEGIN:VTIMEZONE
TZID:Europe/Paris
BEGIN:DAYLIGHT
TZOFFSETFROM:+0100
TZOFFSETTO:+0200
TZNAME:CEST
DTSTART:20170326T010000
END:DAYLIGHT
BEGIN:STANDARD
TZOFFSETFROM:+0200
TZOFFSETTO:+0100
TZNAME:CET
DTSTART:20171029T010000
END:STANDARD
BEGIN:DAYLIGHT
TZOFFSETFROM:+0100
TZOFFSETTO:+0200
TZNAME:CEST
DTSTART:20180325T010000
END:DAYLIGHT
BEGIN:STANDARD
TZOFFSETFROM:+0200
TZOFFSETTO:+0100
TZNAME:CET
DTSTART:20181028T010000
END:STANDARD
BEGIN:DAYLIGHT
TZOFFSETFROM:+0100
TZOFFSETTO:+0200
TZNAME:CEST
DTSTART:20190331T010000
END:DAYLIGHT
BEGIN:STANDARD
TZOFFSETFROM:+0200
TZOFFSETTO:+0100
TZNAME:CET
DTSTART:20191027T010000
END:STANDARD
END:VTIMEZONE
BEGIN:VEVENT
DTSTART;TZID=Europe/Paris:20181013T100000
DTEND;TZID=Europe/Paris:20181013T120000
DTSTAMP:20260423T164607
CREATED:20181006T123902Z
LAST-MODIFIED:20181006T124420Z
UID:5043-1539424800-1539432000@www.marpire.fr
SUMMARY:JFC Formation Défibrillateur - Mairie
DESCRIPTION:Une formation sera dispensée par JFC Formation\nElle s’adresse aux membres des Associations\, aux Conseillers Municipaux et aux personnes de la commune qui le souhaitent.\nLa commune a fait l’acquisition d’un défibrillateur auprès de JFC Formation de Vitré. La Fondation CNP Assurances a soutenu ce projet et a octroyé une subvention. Ce défibrillateur est installé sur le mur de la salle des fêtes\, côté sud.
URL:https://www.marpire.fr/agenda/jfc-formation-defibrillateur-mairie/
LOCATION:Salle des fêtes\, Marpiré\, 35220
END:VEVENT
END:VCALENDAR