BEGIN:VCALENDAR
VERSION:2.0
PRODID:-//Marpiré - ECPv6.15.20//NONSGML v1.0//EN
CALSCALE:GREGORIAN
METHOD:PUBLISH
X-ORIGINAL-URL:https://www.marpire.fr
X-WR-CALDESC:Évènements pour Marpiré
REFRESH-INTERVAL;VALUE=DURATION:PT1H
X-Robots-Tag:noindex
X-PUBLISHED-TTL:PT1H
BEGIN:VTIMEZONE
TZID:Europe/Paris
BEGIN:DAYLIGHT
TZOFFSETFROM:+0100
TZOFFSETTO:+0200
TZNAME:CEST
DTSTART:20170326T010000
END:DAYLIGHT
BEGIN:STANDARD
TZOFFSETFROM:+0200
TZOFFSETTO:+0100
TZNAME:CET
DTSTART:20171029T010000
END:STANDARD
BEGIN:DAYLIGHT
TZOFFSETFROM:+0100
TZOFFSETTO:+0200
TZNAME:CEST
DTSTART:20180325T010000
END:DAYLIGHT
BEGIN:STANDARD
TZOFFSETFROM:+0200
TZOFFSETTO:+0100
TZNAME:CET
DTSTART:20181028T010000
END:STANDARD
BEGIN:DAYLIGHT
TZOFFSETFROM:+0100
TZOFFSETTO:+0200
TZNAME:CEST
DTSTART:20190331T010000
END:DAYLIGHT
BEGIN:STANDARD
TZOFFSETFROM:+0200
TZOFFSETTO:+0100
TZNAME:CET
DTSTART:20191027T010000
END:STANDARD
END:VTIMEZONE
BEGIN:VEVENT
DTSTART;TZID=Europe/Paris:20181018T200000
DTEND;TZID=Europe/Paris:20181018T230000
DTSTAMP:20260423T163157
CREATED:20181006T125304Z
LAST-MODIFIED:20181006T125304Z
UID:5049-1539892800-1539903600@www.marpire.fr
SUMMARY:Réunion pour le spectacle - CSF
DESCRIPTION:A l’initiative de la Confédération Syndicale des Familles\nde MARPIRE et CHAMPEAUX HABITANT(E)S DE MARPIRÉ ET CHAMPEAUX\,\nCRÉONS ENSEMBLE UN SPECTACLE !\nD’OCTOBRE 2018 À JUIN 2019\, SUR DES TEMPS PONCTUELS\, VENEZ PARTICIPER AUX NOMBREUSES ÉTAPES DE CRÉATION D’UN SPECTACLE\,\nACCOMPAGNÉ PAR UN METTEUR EN SCÈNE PROFESSIONNEL.\nPARTICIPATION LIBRE ET GRATUITE\, OUVERTE À TOUTES ET À TOUS\,\nDE 7 À 107 ANS\, AVEC OU SANS EXPÉRIENCE DE THÉÂTRE.\nPREMIERE REUNION\nLE JEUDI 18 OCTOBRE 2018 À 20H00\nSALLE DES ASSOCIATIONS DE MARPIRE\nPOUR TOUS RENSEIGNEMENTS\, VOUS POUVEZ CONTACTER :\nNADIA (06.30.08.90.52 / NADIA.HERVE@HOTMAIL.FR)
URL:https://www.marpire.fr/agenda/reunion-pour-le-spectacle-csf/
LOCATION:Salle des Associations\, rue de l'école\, Marpiré\, 35220\, France
ATTACH;FMTTYPE=image/jpeg:https://www.marpire.fr/wp-content/uploads/2015/11/logo1-e1506368595157.jpg
END:VEVENT
END:VCALENDAR