BEGIN:VCALENDAR
VERSION:2.0
PRODID:-//Marpiré - ECPv6.15.20//NONSGML v1.0//EN
CALSCALE:GREGORIAN
METHOD:PUBLISH
X-ORIGINAL-URL:https://www.marpire.fr
X-WR-CALDESC:Évènements pour Marpiré
REFRESH-INTERVAL;VALUE=DURATION:PT1H
X-Robots-Tag:noindex
X-PUBLISHED-TTL:PT1H
BEGIN:VTIMEZONE
TZID:Europe/Paris
BEGIN:DAYLIGHT
TZOFFSETFROM:+0100
TZOFFSETTO:+0200
TZNAME:CEST
DTSTART:20170326T010000
END:DAYLIGHT
BEGIN:STANDARD
TZOFFSETFROM:+0200
TZOFFSETTO:+0100
TZNAME:CET
DTSTART:20171029T010000
END:STANDARD
BEGIN:DAYLIGHT
TZOFFSETFROM:+0100
TZOFFSETTO:+0200
TZNAME:CEST
DTSTART:20180325T010000
END:DAYLIGHT
BEGIN:STANDARD
TZOFFSETFROM:+0200
TZOFFSETTO:+0100
TZNAME:CET
DTSTART:20181028T010000
END:STANDARD
BEGIN:DAYLIGHT
TZOFFSETFROM:+0100
TZOFFSETTO:+0200
TZNAME:CEST
DTSTART:20190331T010000
END:DAYLIGHT
BEGIN:STANDARD
TZOFFSETFROM:+0200
TZOFFSETTO:+0100
TZNAME:CET
DTSTART:20191027T010000
END:STANDARD
END:VTIMEZONE
BEGIN:VEVENT
DTSTART;VALUE=DATE:20181020
DTEND;VALUE=DATE:20181021
DTSTAMP:20260423T163659
CREATED:20181006T130434Z
LAST-MODIFIED:20181006T130515Z
UID:5052-1539993600-1540079999@www.marpire.fr
SUMMARY:Journée Travaux - Ecole
DESCRIPTION:JOURNEE TRAVAUX\nPapa et Maman\, pour garder notre école agréable\, une« journée travaux » aura lieu le samedi 20 octobre.\nNous avons besoin de bénévoles pour ces travaux\, si vous avez un peu de temps à consacrer à notre école\, merci de vous rapprocher de la direction ou des enseignants afin de vous faire connaitre.\nMerci papa et maman\nVotre enfant
URL:https://www.marpire.fr/agenda/journee-travaux-ecole/
LOCATION:Ecole
ATTACH;FMTTYPE=image/png:https://www.marpire.fr/wp-content/uploads/2018/10/travaux.png
END:VEVENT
END:VCALENDAR