BEGIN:VCALENDAR
VERSION:2.0
PRODID:-//Marpiré - ECPv6.15.20//NONSGML v1.0//EN
CALSCALE:GREGORIAN
METHOD:PUBLISH
X-ORIGINAL-URL:https://www.marpire.fr
X-WR-CALDESC:Évènements pour Marpiré
REFRESH-INTERVAL;VALUE=DURATION:PT1H
X-Robots-Tag:noindex
X-PUBLISHED-TTL:PT1H
BEGIN:VTIMEZONE
TZID:Europe/Paris
BEGIN:DAYLIGHT
TZOFFSETFROM:+0100
TZOFFSETTO:+0200
TZNAME:CEST
DTSTART:20180325T010000
END:DAYLIGHT
BEGIN:STANDARD
TZOFFSETFROM:+0200
TZOFFSETTO:+0100
TZNAME:CET
DTSTART:20181028T010000
END:STANDARD
BEGIN:DAYLIGHT
TZOFFSETFROM:+0100
TZOFFSETTO:+0200
TZNAME:CEST
DTSTART:20190331T010000
END:DAYLIGHT
BEGIN:STANDARD
TZOFFSETFROM:+0200
TZOFFSETTO:+0100
TZNAME:CET
DTSTART:20191027T010000
END:STANDARD
BEGIN:DAYLIGHT
TZOFFSETFROM:+0100
TZOFFSETTO:+0200
TZNAME:CEST
DTSTART:20200329T010000
END:DAYLIGHT
BEGIN:STANDARD
TZOFFSETFROM:+0200
TZOFFSETTO:+0100
TZNAME:CET
DTSTART:20201025T010000
END:STANDARD
END:VTIMEZONE
BEGIN:VEVENT
DTSTART;TZID=Europe/Paris:20190525T120000
DTEND;TZID=Europe/Paris:20190525T180000
DTSTAMP:20260423T060002
CREATED:20190310T125940Z
LAST-MODIFIED:20190310T125940Z
UID:5127-1558785600-1558807200@www.marpire.fr
SUMMARY:Tournoi foot jeunes
DESCRIPTION:
URL:https://www.marpire.fr/agenda/tournoi-foot-jeunes-2/
LOCATION:terrain de foot\, Marpiré\, 35220\, France
END:VEVENT
BEGIN:VEVENT
DTSTART;TZID=Europe/Paris:20190525T153000
DTEND;TZID=Europe/Paris:20190525T200000
DTSTAMP:20260423T060002
CREATED:20190310T130216Z
LAST-MODIFIED:20190310T130216Z
UID:5129-1558798200-1558814400@www.marpire.fr
SUMMARY:Atelier " cuisine sauvage "
DESCRIPTION:
URL:https://www.marpire.fr/agenda/atelier-cuisine-sauvage/
LOCATION:P’tyBistrot\, Marpiré\, 35220\, France
END:VEVENT
END:VCALENDAR