BEGIN:VCALENDAR
VERSION:2.0
PRODID:-//Marpiré - ECPv6.15.20//NONSGML v1.0//EN
CALSCALE:GREGORIAN
METHOD:PUBLISH
X-ORIGINAL-URL:https://www.marpire.fr
X-WR-CALDESC:Évènements pour Marpiré
REFRESH-INTERVAL;VALUE=DURATION:PT1H
X-Robots-Tag:noindex
X-PUBLISHED-TTL:PT1H
BEGIN:VTIMEZONE
TZID:Europe/Paris
BEGIN:DAYLIGHT
TZOFFSETFROM:+0100
TZOFFSETTO:+0200
TZNAME:CEST
DTSTART:20180325T010000
END:DAYLIGHT
BEGIN:STANDARD
TZOFFSETFROM:+0200
TZOFFSETTO:+0100
TZNAME:CET
DTSTART:20181028T010000
END:STANDARD
BEGIN:DAYLIGHT
TZOFFSETFROM:+0100
TZOFFSETTO:+0200
TZNAME:CEST
DTSTART:20190331T010000
END:DAYLIGHT
BEGIN:STANDARD
TZOFFSETFROM:+0200
TZOFFSETTO:+0100
TZNAME:CET
DTSTART:20191027T010000
END:STANDARD
BEGIN:DAYLIGHT
TZOFFSETFROM:+0100
TZOFFSETTO:+0200
TZNAME:CEST
DTSTART:20200329T010000
END:DAYLIGHT
BEGIN:STANDARD
TZOFFSETFROM:+0200
TZOFFSETTO:+0100
TZNAME:CET
DTSTART:20201025T010000
END:STANDARD
END:VTIMEZONE
BEGIN:VEVENT
DTSTART;TZID=Europe/Paris:20191122T160000
DTEND;TZID=Europe/Paris:20191122T190000
DTSTAMP:20260422T211653
CREATED:20191111T095506Z
LAST-MODIFIED:20191111T095512Z
UID:5636-1574438400-1574449200@www.marpire.fr
SUMMARY:Ateliers rencontre assistante maternelle\, parents et enfants à VAL 'IZé
DESCRIPTION:
URL:https://www.marpire.fr/agenda/ateliers-rencontre-assistante-maternelle-parents-et-enfants-a-val-ize/
END:VEVENT
END:VCALENDAR