BEGIN:VCALENDAR
VERSION:2.0
PRODID:-//Marpiré - ECPv6.15.20//NONSGML v1.0//EN
CALSCALE:GREGORIAN
METHOD:PUBLISH
X-ORIGINAL-URL:https://www.marpire.fr
X-WR-CALDESC:Évènements pour Marpiré
REFRESH-INTERVAL;VALUE=DURATION:PT1H
X-Robots-Tag:noindex
X-PUBLISHED-TTL:PT1H
BEGIN:VTIMEZONE
TZID:Europe/Paris
BEGIN:DAYLIGHT
TZOFFSETFROM:+0100
TZOFFSETTO:+0200
TZNAME:CEST
DTSTART:20200329T010000
END:DAYLIGHT
BEGIN:STANDARD
TZOFFSETFROM:+0200
TZOFFSETTO:+0100
TZNAME:CET
DTSTART:20201025T010000
END:STANDARD
BEGIN:DAYLIGHT
TZOFFSETFROM:+0100
TZOFFSETTO:+0200
TZNAME:CEST
DTSTART:20210328T010000
END:DAYLIGHT
BEGIN:STANDARD
TZOFFSETFROM:+0200
TZOFFSETTO:+0100
TZNAME:CET
DTSTART:20211031T010000
END:STANDARD
BEGIN:DAYLIGHT
TZOFFSETFROM:+0100
TZOFFSETTO:+0200
TZNAME:CEST
DTSTART:20220327T010000
END:DAYLIGHT
BEGIN:STANDARD
TZOFFSETFROM:+0200
TZOFFSETTO:+0100
TZNAME:CET
DTSTART:20221030T010000
END:STANDARD
END:VTIMEZONE
BEGIN:VEVENT
DTSTART;TZID=Europe/Paris:20211023T100000
DTEND;TZID=Europe/Paris:20211023T170000
DTSTAMP:20260421T102208
CREATED:20211014T105224Z
LAST-MODIFIED:20211014T105333Z
UID:6966-1634983200-1635008400@www.marpire.fr
SUMMARY:CSF - Faire un film avec ses mains
DESCRIPTION:Samedi 23 octobre de 10h à 17H \nFAIRE UN FILM AVEC SES MAINS de Julien Mondon. \nJulien apporte des films 35mm sur lesquels les participants vont dessiner\, gratter\, peindre\, altérer\, coller afin de mettre en mouvement leurs images fixes … L’objet final est un film expérimental collectif. Chaque participant numérise ses images sur un banc titre à disposition. \nVenez vous initier à cette technique visuelle et partager un agréable moment avec votre ou vos enfants. \nRdv à la salle des associations. \nPas d’âge minimum pour les enfants (des plus petits aux plus grands\, tous sont les bienvenus) \nINSCRIPTION OBLIGATOIRE
URL:https://www.marpire.fr/agenda/csf-faire-un-film-avec-ses-mains/
LOCATION:Salle des Associations\, rue de l'école\, Marpiré\, 35220\, France
ATTACH;FMTTYPE=image/jpeg:https://www.marpire.fr/wp-content/uploads/2015/11/logo1-e1506368595157.jpg
END:VEVENT
END:VCALENDAR