BEGIN:VCALENDAR
VERSION:2.0
PRODID:-//Marpiré - ECPv6.15.20//NONSGML v1.0//EN
CALSCALE:GREGORIAN
METHOD:PUBLISH
X-WR-CALNAME:Marpiré
X-ORIGINAL-URL:https://www.marpire.fr
X-WR-CALDESC:Évènements pour Marpiré
REFRESH-INTERVAL;VALUE=DURATION:PT1H
X-Robots-Tag:noindex
X-PUBLISHED-TTL:PT1H
BEGIN:VTIMEZONE
TZID:Europe/Paris
BEGIN:DAYLIGHT
TZOFFSETFROM:+0100
TZOFFSETTO:+0200
TZNAME:CEST
DTSTART:20160327T010000
END:DAYLIGHT
BEGIN:STANDARD
TZOFFSETFROM:+0200
TZOFFSETTO:+0100
TZNAME:CET
DTSTART:20161030T010000
END:STANDARD
BEGIN:DAYLIGHT
TZOFFSETFROM:+0100
TZOFFSETTO:+0200
TZNAME:CEST
DTSTART:20170326T010000
END:DAYLIGHT
BEGIN:STANDARD
TZOFFSETFROM:+0200
TZOFFSETTO:+0100
TZNAME:CET
DTSTART:20171029T010000
END:STANDARD
BEGIN:DAYLIGHT
TZOFFSETFROM:+0100
TZOFFSETTO:+0200
TZNAME:CEST
DTSTART:20180325T010000
END:DAYLIGHT
BEGIN:STANDARD
TZOFFSETFROM:+0200
TZOFFSETTO:+0100
TZNAME:CET
DTSTART:20181028T010000
END:STANDARD
END:VTIMEZONE
BEGIN:VEVENT
DTSTART;TZID=Europe/Paris:20170305T140000
DTEND;TZID=Europe/Paris:20170305T140000
DTSTAMP:20260424T174330
CREATED:20170206T183933Z
LAST-MODIFIED:20170206T183933Z
UID:4218-1488722400-1488722400@www.marpire.fr
SUMMARY:Concours de belote
DESCRIPTION:
URL:https://www.marpire.fr/agenda/concours-de-belote/
LOCATION:P’tyBistrot\, Marpiré\, 35220\, France
END:VEVENT
BEGIN:VEVENT
DTSTART;TZID=Europe/Paris:20170312T103000
DTEND;TZID=Europe/Paris:20170312T120000
DTSTAMP:20260424T174330
CREATED:20170311T194429Z
LAST-MODIFIED:20170311T194429Z
UID:4266-1489314600-1489320000@www.marpire.fr
SUMMARY:A la découverte de la poésie Japonaise
DESCRIPTION:
URL:https://www.marpire.fr/agenda/a-la-decouverte-de-la-poesie-japonaise/
LOCATION:Bibliothèque\, Marpiré\, France
END:VEVENT
BEGIN:VEVENT
DTSTART;VALUE=DATE:20170325
DTEND;VALUE=DATE:20170326
DTSTAMP:20260424T174330
CREATED:20160930T110447Z
LAST-MODIFIED:20160930T110447Z
UID:3772-1490400000-1490486399@www.marpire.fr
SUMMARY:Repas Chasse
DESCRIPTION:
URL:https://www.marpire.fr/agenda/repas-chasse/
END:VEVENT
END:VCALENDAR