BEGIN:VCALENDAR
VERSION:2.0
PRODID:-//Marpiré - ECPv6.15.20//NONSGML v1.0//EN
CALSCALE:GREGORIAN
METHOD:PUBLISH
X-WR-CALNAME:Marpiré
X-ORIGINAL-URL:https://www.marpire.fr
X-WR-CALDESC:Évènements pour Marpiré
REFRESH-INTERVAL;VALUE=DURATION:PT1H
X-Robots-Tag:noindex
X-PUBLISHED-TTL:PT1H
BEGIN:VTIMEZONE
TZID:Europe/Paris
BEGIN:DAYLIGHT
TZOFFSETFROM:+0100
TZOFFSETTO:+0200
TZNAME:CEST
DTSTART:20160327T010000
END:DAYLIGHT
BEGIN:STANDARD
TZOFFSETFROM:+0200
TZOFFSETTO:+0100
TZNAME:CET
DTSTART:20161030T010000
END:STANDARD
BEGIN:DAYLIGHT
TZOFFSETFROM:+0100
TZOFFSETTO:+0200
TZNAME:CEST
DTSTART:20170326T010000
END:DAYLIGHT
BEGIN:STANDARD
TZOFFSETFROM:+0200
TZOFFSETTO:+0100
TZNAME:CET
DTSTART:20171029T010000
END:STANDARD
BEGIN:DAYLIGHT
TZOFFSETFROM:+0100
TZOFFSETTO:+0200
TZNAME:CEST
DTSTART:20180325T010000
END:DAYLIGHT
BEGIN:STANDARD
TZOFFSETFROM:+0200
TZOFFSETTO:+0100
TZNAME:CET
DTSTART:20181028T010000
END:STANDARD
END:VTIMEZONE
BEGIN:VEVENT
DTSTART;TZID=Europe/Paris:20170407T200000
DTEND;TZID=Europe/Paris:20170407T220000
DTSTAMP:20260424T162515
CREATED:20170404T111809Z
LAST-MODIFIED:20170404T111820Z
UID:4328-1491595200-1491602400@www.marpire.fr
SUMMARY:Veillée chantée - P'ty Bistrot
DESCRIPTION:Veillée chantée avec des membres de La Boueze \n  \nEntrée libre
URL:https://www.marpire.fr/agenda/veillee-chantee-pty-bistrot/
END:VEVENT
BEGIN:VEVENT
DTSTART;TZID=Europe/Paris:20170418T000000
DTEND;TZID=Europe/Paris:20170418T000000
DTSTAMP:20260424T162516
CREATED:20170124T215414Z
LAST-MODIFIED:20170124T215414Z
UID:4185-1492473600-1492473600@www.marpire.fr
SUMMARY:Concours de belote Club de la gaieté
DESCRIPTION:
URL:https://www.marpire.fr/agenda/concours-de-belote-club-de-la-gaiete-2/
LOCATION:Marpiré\, Marpiré\, 35220\, France
END:VEVENT
BEGIN:VEVENT
DTSTART;TZID=Europe/Paris:20170422T143000
DTEND;TZID=Europe/Paris:20170422T170000
DTSTAMP:20260424T162516
CREATED:20170404T111916Z
LAST-MODIFIED:20170404T111916Z
UID:4329-1492871400-1492880400@www.marpire.fr
SUMMARY:Bourse aux plantes & dégustation de thés - P'ty Bistrot
DESCRIPTION:
URL:https://www.marpire.fr/agenda/bourse-aux-plantes-degustation-de-thes-pty-bistrot/
END:VEVENT
BEGIN:VEVENT
DTSTART;TZID=Europe/Paris:20170426T170000
DTEND;TZID=Europe/Paris:20170426T190000
DTSTAMP:20260424T162516
CREATED:20170404T111044Z
LAST-MODIFIED:20170404T111044Z
UID:4326-1493226000-1493233200@www.marpire.fr
SUMMARY:Conte Musical Pierre et le Loup - Bibliothèque
DESCRIPTION:Jeux et fabrication d’un loup\nA partir de 5ans \,  gratuit \n  \nbiblio.marpire@orange.fr
URL:https://www.marpire.fr/agenda/conte-musical-pierre-et-le-loup-bibliotheque/
END:VEVENT
END:VCALENDAR