BEGIN:VCALENDAR
VERSION:2.0
PRODID:-//Marpiré - ECPv6.15.20//NONSGML v1.0//EN
CALSCALE:GREGORIAN
METHOD:PUBLISH
X-WR-CALNAME:Marpiré
X-ORIGINAL-URL:https://www.marpire.fr
X-WR-CALDESC:Évènements pour Marpiré
REFRESH-INTERVAL;VALUE=DURATION:PT1H
X-Robots-Tag:noindex
X-PUBLISHED-TTL:PT1H
BEGIN:VTIMEZONE
TZID:Europe/Paris
BEGIN:DAYLIGHT
TZOFFSETFROM:+0100
TZOFFSETTO:+0200
TZNAME:CEST
DTSTART:20160327T010000
END:DAYLIGHT
BEGIN:STANDARD
TZOFFSETFROM:+0200
TZOFFSETTO:+0100
TZNAME:CET
DTSTART:20161030T010000
END:STANDARD
BEGIN:DAYLIGHT
TZOFFSETFROM:+0100
TZOFFSETTO:+0200
TZNAME:CEST
DTSTART:20170326T010000
END:DAYLIGHT
BEGIN:STANDARD
TZOFFSETFROM:+0200
TZOFFSETTO:+0100
TZNAME:CET
DTSTART:20171029T010000
END:STANDARD
BEGIN:DAYLIGHT
TZOFFSETFROM:+0100
TZOFFSETTO:+0200
TZNAME:CEST
DTSTART:20180325T010000
END:DAYLIGHT
BEGIN:STANDARD
TZOFFSETFROM:+0200
TZOFFSETTO:+0100
TZNAME:CET
DTSTART:20181028T010000
END:STANDARD
END:VTIMEZONE
BEGIN:VEVENT
DTSTART;TZID=Europe/Paris:20171011T080000
DTEND;TZID=Europe/Paris:20171011T170000
DTSTAMP:20260424T082216
CREATED:20171011T203530Z
LAST-MODIFIED:20171011T203530Z
UID:4664-1507708800-1507741200@www.marpire.fr
SUMMARY:Concert " no more tools"
DESCRIPTION:
URL:https://www.marpire.fr/agenda/concert-no-more-tools/
END:VEVENT
BEGIN:VEVENT
DTSTART;TZID=Europe/Paris:20171013T200000
DTEND;TZID=Europe/Paris:20171013T230000
DTSTAMP:20260424T082216
CREATED:20171011T195515Z
LAST-MODIFIED:20171011T195515Z
UID:4643-1507924800-1507935600@www.marpire.fr
SUMMARY:Veillée chantée
DESCRIPTION:
URL:https://www.marpire.fr/agenda/veillee-chantee/
LOCATION:P’tyBistrot\, Marpiré\, 35220\, France
END:VEVENT
BEGIN:VEVENT
DTSTART;TZID=Europe/Paris:20171015T000000
DTEND;TZID=Europe/Paris:20171015T000000
DTSTAMP:20260424T082216
CREATED:20171011T195709Z
LAST-MODIFIED:20171011T195709Z
UID:4645-1508025600-1508025600@www.marpire.fr
SUMMARY:Battue
DESCRIPTION:
URL:https://www.marpire.fr/agenda/battue/
END:VEVENT
BEGIN:VEVENT
DTSTART;TZID=Europe/Paris:20171016T080000
DTEND;TZID=Europe/Paris:20171016T080000
DTSTAMP:20260424T082216
CREATED:20171011T200021Z
LAST-MODIFIED:20171011T200021Z
UID:4646-1508140800-1508140800@www.marpire.fr
SUMMARY:Photos de classes des enfants
DESCRIPTION:
URL:https://www.marpire.fr/agenda/photos-de-classes-des-enfants/
LOCATION:Ecole
END:VEVENT
BEGIN:VEVENT
DTSTART;TZID=Europe/Paris:20171017T000000
DTEND;TZID=Europe/Paris:20171017T000000
DTSTAMP:20260424T082216
CREATED:20171011T200831Z
LAST-MODIFIED:20171011T200831Z
UID:4648-1508198400-1508198400@www.marpire.fr
SUMMARY:AG de l'APEL
DESCRIPTION:
URL:https://www.marpire.fr/agenda/ag-de-lapel/
LOCATION:Ecole
END:VEVENT
BEGIN:VEVENT
DTSTART;TZID=Europe/Paris:20171020T163000
DTEND;TZID=Europe/Paris:20171020T180000
DTSTAMP:20260424T082216
CREATED:20171011T201234Z
LAST-MODIFIED:20171011T201234Z
UID:4652-1508517000-1508522400@www.marpire.fr
SUMMARY:Vente de gâteaux à la sortie de l'école
DESCRIPTION:
URL:https://www.marpire.fr/agenda/vente-de-gateaux-a-la-sortie-de-lecole/
LOCATION:Ecole
END:VEVENT
BEGIN:VEVENT
DTSTART;TZID=Europe/Paris:20171025T170000
DTEND;TZID=Europe/Paris:20171025T200000
DTSTAMP:20260424T082216
CREATED:20171011T194728Z
LAST-MODIFIED:20171011T194922Z
UID:4640-1508950800-1508961600@www.marpire.fr
SUMMARY:Petites histoires racontées par Séverine
DESCRIPTION:
URL:https://www.marpire.fr/agenda/petites-histoires-racontees-par-severine/
LOCATION:Bibliothèque\, Marpiré\, France
END:VEVENT
END:VCALENDAR