BEGIN:VCALENDAR
VERSION:2.0
PRODID:-//Marpiré - ECPv6.15.20//NONSGML v1.0//EN
CALSCALE:GREGORIAN
METHOD:PUBLISH
X-WR-CALNAME:Marpiré
X-ORIGINAL-URL:https://www.marpire.fr
X-WR-CALDESC:Évènements pour Marpiré
REFRESH-INTERVAL;VALUE=DURATION:PT1H
X-Robots-Tag:noindex
X-PUBLISHED-TTL:PT1H
BEGIN:VTIMEZONE
TZID:Europe/Paris
BEGIN:DAYLIGHT
TZOFFSETFROM:+0100
TZOFFSETTO:+0200
TZNAME:CEST
DTSTART:20170326T010000
END:DAYLIGHT
BEGIN:STANDARD
TZOFFSETFROM:+0200
TZOFFSETTO:+0100
TZNAME:CET
DTSTART:20171029T010000
END:STANDARD
BEGIN:DAYLIGHT
TZOFFSETFROM:+0100
TZOFFSETTO:+0200
TZNAME:CEST
DTSTART:20180325T010000
END:DAYLIGHT
BEGIN:STANDARD
TZOFFSETFROM:+0200
TZOFFSETTO:+0100
TZNAME:CET
DTSTART:20181028T010000
END:STANDARD
BEGIN:DAYLIGHT
TZOFFSETFROM:+0100
TZOFFSETTO:+0200
TZNAME:CEST
DTSTART:20190331T010000
END:DAYLIGHT
BEGIN:STANDARD
TZOFFSETFROM:+0200
TZOFFSETTO:+0100
TZNAME:CET
DTSTART:20191027T010000
END:STANDARD
END:VTIMEZONE
BEGIN:VEVENT
DTSTART;TZID=Europe/Paris:20180316T203000
DTEND;TZID=Europe/Paris:20180316T235500
DTSTAMP:20260424T011407
CREATED:20180120T145340Z
LAST-MODIFIED:20180227T204928Z
UID:4741-1521232200-1521244500@www.marpire.fr
SUMMARY:Soirée Tarot
DESCRIPTION:
URL:https://www.marpire.fr/agenda/tresors-enfouis-2/
LOCATION:P’tyBistrot\, Marpiré\, 35220\, France
END:VEVENT
BEGIN:VEVENT
DTSTART;TZID=Europe/Paris:20180323T163000
DTEND;TZID=Europe/Paris:20180323T180000
DTSTAMP:20260424T011407
CREATED:20180316T205213Z
LAST-MODIFIED:20180316T205213Z
UID:4832-1521822600-1521828000@www.marpire.fr
SUMMARY:Journée Internationale des fôrets
DESCRIPTION:
URL:https://www.marpire.fr/agenda/journee-internationale-des-forets/
LOCATION:Bibliothèque\, Marpiré\, France
END:VEVENT
BEGIN:VEVENT
DTSTART;TZID=Europe/Paris:20180324T000000
DTEND;TZID=Europe/Paris:20180324T000000
DTSTAMP:20260424T011407
CREATED:20171115T205421Z
LAST-MODIFIED:20171115T205421Z
UID:4709-1521849600-1521849600@www.marpire.fr
SUMMARY:Repas de chasse
DESCRIPTION:
URL:https://www.marpire.fr/agenda/repas-de-chasse-2/
LOCATION:Salle des fêtes\, Marpiré\, 35220
END:VEVENT
BEGIN:VEVENT
DTSTART;TZID=Europe/Paris:20180325T100000
DTEND;TZID=Europe/Paris:20180325T120000
DTSTAMP:20260424T011407
CREATED:20180316T205329Z
LAST-MODIFIED:20180316T205329Z
UID:4835-1521972000-1521979200@www.marpire.fr
SUMMARY:Journée Internationale des fôrets
DESCRIPTION:
URL:https://www.marpire.fr/agenda/journee-internationale-des-forets-2/
LOCATION:Bibliothèque\, Marpiré\, France
END:VEVENT
END:VCALENDAR