BEGIN:VCALENDAR
VERSION:2.0
PRODID:-//Marpiré - ECPv6.15.20//NONSGML v1.0//EN
CALSCALE:GREGORIAN
METHOD:PUBLISH
X-ORIGINAL-URL:https://www.marpire.fr
X-WR-CALDESC:Évènements pour Marpiré
REFRESH-INTERVAL;VALUE=DURATION:PT1H
X-Robots-Tag:noindex
X-PUBLISHED-TTL:PT1H
BEGIN:VTIMEZONE
TZID:Europe/Paris
BEGIN:DAYLIGHT
TZOFFSETFROM:+0100
TZOFFSETTO:+0200
TZNAME:CEST
DTSTART:20170326T010000
END:DAYLIGHT
BEGIN:STANDARD
TZOFFSETFROM:+0200
TZOFFSETTO:+0100
TZNAME:CET
DTSTART:20171029T010000
END:STANDARD
BEGIN:DAYLIGHT
TZOFFSETFROM:+0100
TZOFFSETTO:+0200
TZNAME:CEST
DTSTART:20180325T010000
END:DAYLIGHT
BEGIN:STANDARD
TZOFFSETFROM:+0200
TZOFFSETTO:+0100
TZNAME:CET
DTSTART:20181028T010000
END:STANDARD
BEGIN:DAYLIGHT
TZOFFSETFROM:+0100
TZOFFSETTO:+0200
TZNAME:CEST
DTSTART:20190331T010000
END:DAYLIGHT
BEGIN:STANDARD
TZOFFSETFROM:+0200
TZOFFSETTO:+0100
TZNAME:CET
DTSTART:20191027T010000
END:STANDARD
END:VTIMEZONE
BEGIN:VEVENT
DTSTART;TZID=Europe/Paris:20181104T130000
DTEND;TZID=Europe/Paris:20181104T170000
DTSTAMP:20260423T134107
CREATED:20181006T130925Z
LAST-MODIFIED:20181006T130925Z
UID:5054-1541336400-1541350800@www.marpire.fr
SUMMARY:Concours de Belote (individuels) - P’ty Bistrot
DESCRIPTION:
URL:https://www.marpire.fr/agenda/concours-de-belote-individuels-pty-bistrot/
LOCATION:P’tyBistrot\, Marpiré\, 35220\, France
END:VEVENT
BEGIN:VEVENT
DTSTART;TZID=Europe/Paris:20181109T200000
DTEND;TZID=Europe/Paris:20181109T230000
DTSTAMP:20260423T134107
CREATED:20181006T133648Z
LAST-MODIFIED:20181006T133648Z
UID:5055-1541793600-1541804400@www.marpire.fr
SUMMARY:Soirée Dégustation Vins & Fromages - P’ty Bistrot
DESCRIPTION:
URL:https://www.marpire.fr/agenda/soiree-degustation-vins-fromages-pty-bistrot/
LOCATION:P’tyBistrot\, Marpiré\, 35220\, France
END:VEVENT
BEGIN:VEVENT
DTSTART;TZID=Europe/Paris:20181111T000000
DTEND;TZID=Europe/Paris:20181111T000000
DTSTAMP:20260423T134107
CREATED:20180121T092244Z
LAST-MODIFIED:20180121T092244Z
UID:4754-1541894400-1541894400@www.marpire.fr
SUMMARY:Commémoration de l'Armistice
DESCRIPTION:
URL:https://www.marpire.fr/agenda/commemoration-de-larmistice-3/
LOCATION:Marpiré\, Marpiré\, 35220\, France
END:VEVENT
BEGIN:VEVENT
DTSTART;TZID=Europe/Paris:20181117T190000
DTEND;TZID=Europe/Paris:20181117T235500
DTSTAMP:20260423T134107
CREATED:20181006T133902Z
LAST-MODIFIED:20181006T133902Z
UID:5057-1542481200-1542498900@www.marpire.fr
SUMMARY:Choucroute du Sport
DESCRIPTION:
URL:https://www.marpire.fr/agenda/choucroute-du-sport-2/
LOCATION:Salle des fêtes\, Marpiré\, 35220
END:VEVENT
BEGIN:VEVENT
DTSTART;TZID=Europe/Paris:20181124T150000
DTEND;TZID=Europe/Paris:20181124T200000
DTSTAMP:20260423T134107
CREATED:20181006T134109Z
LAST-MODIFIED:20181006T134109Z
UID:5058-1543071600-1543089600@www.marpire.fr
SUMMARY:Echange Confiture & Bourse aux plantes - P’ty Bistrot
DESCRIPTION:
URL:https://www.marpire.fr/agenda/echange-confiture-bourse-aux-plantes-pty-bistrot/
LOCATION:P’tyBistrot\, Marpiré\, 35220\, France
END:VEVENT
END:VCALENDAR