BEGIN:VCALENDAR
VERSION:2.0
PRODID:-//Marpiré - ECPv6.15.20//NONSGML v1.0//EN
CALSCALE:GREGORIAN
METHOD:PUBLISH
X-WR-CALNAME:Marpiré
X-ORIGINAL-URL:https://www.marpire.fr
X-WR-CALDESC:Évènements pour Marpiré
REFRESH-INTERVAL;VALUE=DURATION:PT1H
X-Robots-Tag:noindex
X-PUBLISHED-TTL:PT1H
BEGIN:VTIMEZONE
TZID:Europe/Paris
BEGIN:DAYLIGHT
TZOFFSETFROM:+0100
TZOFFSETTO:+0200
TZNAME:CEST
DTSTART:20190331T010000
END:DAYLIGHT
BEGIN:STANDARD
TZOFFSETFROM:+0200
TZOFFSETTO:+0100
TZNAME:CET
DTSTART:20191027T010000
END:STANDARD
BEGIN:DAYLIGHT
TZOFFSETFROM:+0100
TZOFFSETTO:+0200
TZNAME:CEST
DTSTART:20200329T010000
END:DAYLIGHT
BEGIN:STANDARD
TZOFFSETFROM:+0200
TZOFFSETTO:+0100
TZNAME:CET
DTSTART:20201025T010000
END:STANDARD
BEGIN:DAYLIGHT
TZOFFSETFROM:+0100
TZOFFSETTO:+0200
TZNAME:CEST
DTSTART:20210328T010000
END:DAYLIGHT
BEGIN:STANDARD
TZOFFSETFROM:+0200
TZOFFSETTO:+0100
TZNAME:CET
DTSTART:20211031T010000
END:STANDARD
END:VTIMEZONE
BEGIN:VEVENT
DTSTART;TZID=Europe/Paris:20200118T000000
DTEND;TZID=Europe/Paris:20200118T000000
DTSTAMP:20260422T163350
CREATED:20200106T122233Z
LAST-MODIFIED:20200106T122233Z
UID:5865-1579305600-1579305600@www.marpire.fr
SUMMARY:Galette des rois des sports
DESCRIPTION:
URL:https://www.marpire.fr/agenda/galette-des-rois-des-sports/
LOCATION:foyer salle des sports\, Marpiré\, 35220\, France
END:VEVENT
BEGIN:VEVENT
DTSTART;TZID=Europe/Paris:20200119T000000
DTEND;TZID=Europe/Paris:20200119T000000
DTSTAMP:20260422T163350
CREATED:20200106T122332Z
LAST-MODIFIED:20200106T122332Z
UID:5866-1579392000-1579392000@www.marpire.fr
SUMMARY:Galette des rois des sports
DESCRIPTION:
URL:https://www.marpire.fr/agenda/galette-des-rois-des-sports-2/
LOCATION:foyer salle des sports\, Marpiré\, 35220\, France
END:VEVENT
END:VCALENDAR