BEGIN:VCALENDAR
VERSION:2.0
PRODID:-//Marpiré - ECPv6.15.20//NONSGML v1.0//EN
CALSCALE:GREGORIAN
METHOD:PUBLISH
X-WR-CALNAME:Marpiré
X-ORIGINAL-URL:https://www.marpire.fr
X-WR-CALDESC:Évènements pour Marpiré
REFRESH-INTERVAL;VALUE=DURATION:PT1H
X-Robots-Tag:noindex
X-PUBLISHED-TTL:PT1H
BEGIN:VTIMEZONE
TZID:Europe/Paris
BEGIN:DAYLIGHT
TZOFFSETFROM:+0100
TZOFFSETTO:+0200
TZNAME:CEST
DTSTART:20190331T010000
END:DAYLIGHT
BEGIN:STANDARD
TZOFFSETFROM:+0200
TZOFFSETTO:+0100
TZNAME:CET
DTSTART:20191027T010000
END:STANDARD
BEGIN:DAYLIGHT
TZOFFSETFROM:+0100
TZOFFSETTO:+0200
TZNAME:CEST
DTSTART:20200329T010000
END:DAYLIGHT
BEGIN:STANDARD
TZOFFSETFROM:+0200
TZOFFSETTO:+0100
TZNAME:CET
DTSTART:20201025T010000
END:STANDARD
BEGIN:DAYLIGHT
TZOFFSETFROM:+0100
TZOFFSETTO:+0200
TZNAME:CEST
DTSTART:20210328T010000
END:DAYLIGHT
BEGIN:STANDARD
TZOFFSETFROM:+0200
TZOFFSETTO:+0100
TZNAME:CET
DTSTART:20211031T010000
END:STANDARD
END:VTIMEZONE
BEGIN:VEVENT
DTSTART;TZID=Europe/Paris:20200315T080000
DTEND;TZID=Europe/Paris:20200315T180000
DTSTAMP:20260422T131957
CREATED:20191111T095746Z
LAST-MODIFIED:20191111T095746Z
UID:5637-1584259200-1584295200@www.marpire.fr
SUMMARY:Elections municipales - 1er tour
DESCRIPTION:
URL:https://www.marpire.fr/agenda/elections-municipales-1er-tour/
END:VEVENT
BEGIN:VEVENT
DTSTART;TZID=Europe/Paris:20200321T150000
DTEND;TZID=Europe/Paris:20200321T180000
DTSTAMP:20260422T131957
CREATED:20200306T124441Z
LAST-MODIFIED:20200306T124441Z
UID:5920-1584802800-1584813600@www.marpire.fr
SUMMARY:Journée internationale des forêts
DESCRIPTION:
URL:https://www.marpire.fr/agenda/journee-internationale-des-forets-3/
LOCATION:Bibliothèque\, Marpiré\, France
END:VEVENT
BEGIN:VEVENT
DTSTART;TZID=Europe/Paris:20200321T193000
DTEND;TZID=Europe/Paris:20200321T230000
DTSTAMP:20260422T131957
CREATED:20191001T225533Z
LAST-MODIFIED:20191001T225533Z
UID:5533-1584819000-1584831600@www.marpire.fr
SUMMARY:Repas ACCA Marpiré
DESCRIPTION:
URL:https://www.marpire.fr/agenda/repas-acca-marpire/
END:VEVENT
BEGIN:VEVENT
DTSTART;TZID=Europe/Paris:20200322T080000
DTEND;TZID=Europe/Paris:20200322T180000
DTSTAMP:20260422T131957
CREATED:20191111T095825Z
LAST-MODIFIED:20191111T095903Z
UID:5638-1584864000-1584900000@www.marpire.fr
SUMMARY:Elections municipales - 2nd tour
DESCRIPTION:
URL:https://www.marpire.fr/agenda/elections-municipales-2nd-tour/
END:VEVENT
END:VCALENDAR