BEGIN:VCALENDAR
VERSION:2.0
PRODID:-//Marpiré - ECPv6.15.20//NONSGML v1.0//EN
CALSCALE:GREGORIAN
METHOD:PUBLISH
X-WR-CALNAME:Marpiré
X-ORIGINAL-URL:https://www.marpire.fr
X-WR-CALDESC:Évènements pour Marpiré
REFRESH-INTERVAL;VALUE=DURATION:PT1H
X-Robots-Tag:noindex
X-PUBLISHED-TTL:PT1H
BEGIN:VTIMEZONE
TZID:Europe/Paris
BEGIN:DAYLIGHT
TZOFFSETFROM:+0100
TZOFFSETTO:+0200
TZNAME:CEST
DTSTART:20200329T010000
END:DAYLIGHT
BEGIN:STANDARD
TZOFFSETFROM:+0200
TZOFFSETTO:+0100
TZNAME:CET
DTSTART:20201025T010000
END:STANDARD
BEGIN:DAYLIGHT
TZOFFSETFROM:+0100
TZOFFSETTO:+0200
TZNAME:CEST
DTSTART:20210328T010000
END:DAYLIGHT
BEGIN:STANDARD
TZOFFSETFROM:+0200
TZOFFSETTO:+0100
TZNAME:CET
DTSTART:20211031T010000
END:STANDARD
BEGIN:DAYLIGHT
TZOFFSETFROM:+0100
TZOFFSETTO:+0200
TZNAME:CEST
DTSTART:20220327T010000
END:DAYLIGHT
BEGIN:STANDARD
TZOFFSETFROM:+0200
TZOFFSETTO:+0100
TZNAME:CET
DTSTART:20221030T010000
END:STANDARD
END:VTIMEZONE
BEGIN:VEVENT
DTSTART;TZID=Europe/Paris:20210613T100000
DTEND;TZID=Europe/Paris:20210613T190000
DTSTAMP:20260421T144728
CREATED:20210512T101548Z
LAST-MODIFIED:20210512T101548Z
UID:6745-1623578400-1623610800@www.marpire.fr
SUMMARY:Tournoi de volley
DESCRIPTION:
URL:https://www.marpire.fr/agenda/tournoi-de-volley/
LOCATION:terrain de foot\, Marpiré\, 35220\, France
END:VEVENT
BEGIN:VEVENT
DTSTART;TZID=Europe/Paris:20210616T200000
DTEND;TZID=Europe/Paris:20210616T220000
DTSTAMP:20260421T144728
CREATED:20210604T101039Z
LAST-MODIFIED:20210604T101039Z
UID:6780-1623873600-1623880800@www.marpire.fr
SUMMARY:Assemblée générale 2021-Accueil de loisir AEIJ
DESCRIPTION:
URL:https://www.marpire.fr/agenda/assemblee-generale-2021-accueil-de-loisir-aeij/
END:VEVENT
BEGIN:VEVENT
DTSTART;TZID=Europe/Paris:20210620T080000
DTEND;TZID=Europe/Paris:20210620T180000
DTSTAMP:20260421T144728
CREATED:20210604T101436Z
LAST-MODIFIED:20210604T101436Z
UID:6782-1624176000-1624212000@www.marpire.fr
SUMMARY:élections régionales et départementales
DESCRIPTION:Merci de venir avec votre carte d’identité\, votre masque et votre stylo.
URL:https://www.marpire.fr/agenda/elections-regionales-et-departementales/
LOCATION:Salle des fêtes\, Marpiré\, 35220
END:VEVENT
BEGIN:VEVENT
DTSTART;TZID=Europe/Paris:20210620T103000
DTEND;TZID=Europe/Paris:20210620T180000
DTSTAMP:20260421T144728
CREATED:20210604T100754Z
LAST-MODIFIED:20210604T100754Z
UID:6777-1624185000-1624212000@www.marpire.fr
SUMMARY:PRATIQUE FOOT DIVERSIFIE
DESCRIPTION:PRATIQUE FOOT DIVERSIFIE
URL:https://www.marpire.fr/agenda/pratique-foot-diversifie/
LOCATION:terrain de foot\, Marpiré\, 35220\, France
END:VEVENT
BEGIN:VEVENT
DTSTART;TZID=Europe/Paris:20210627T080000
DTEND;TZID=Europe/Paris:20210627T180000
DTSTAMP:20260421T144728
CREATED:20210604T101714Z
LAST-MODIFIED:20210604T101714Z
UID:6785-1624780800-1624816800@www.marpire.fr
SUMMARY:élections régionales et départementales
DESCRIPTION:Merci de venir avec votre carte d’identité\, votre masque et votre stylo.\n 
URL:https://www.marpire.fr/agenda/elections-regionales-et-departementales-2/
LOCATION:Salle des fêtes\, Marpiré\, 35220
END:VEVENT
END:VCALENDAR