BEGIN:VCALENDAR
VERSION:2.0
PRODID:-//Marpiré - ECPv6.15.20//NONSGML v1.0//EN
CALSCALE:GREGORIAN
METHOD:PUBLISH
X-ORIGINAL-URL:https://www.marpire.fr
X-WR-CALDESC:Évènements pour Marpiré
REFRESH-INTERVAL;VALUE=DURATION:PT1H
X-Robots-Tag:noindex
X-PUBLISHED-TTL:PT1H
BEGIN:VTIMEZONE
TZID:Europe/Paris
BEGIN:DAYLIGHT
TZOFFSETFROM:+0100
TZOFFSETTO:+0200
TZNAME:CEST
DTSTART:20210328T010000
END:DAYLIGHT
BEGIN:STANDARD
TZOFFSETFROM:+0200
TZOFFSETTO:+0100
TZNAME:CET
DTSTART:20211031T010000
END:STANDARD
BEGIN:DAYLIGHT
TZOFFSETFROM:+0100
TZOFFSETTO:+0200
TZNAME:CEST
DTSTART:20220327T010000
END:DAYLIGHT
BEGIN:STANDARD
TZOFFSETFROM:+0200
TZOFFSETTO:+0100
TZNAME:CET
DTSTART:20221030T010000
END:STANDARD
BEGIN:DAYLIGHT
TZOFFSETFROM:+0100
TZOFFSETTO:+0200
TZNAME:CEST
DTSTART:20230326T010000
END:DAYLIGHT
BEGIN:STANDARD
TZOFFSETFROM:+0200
TZOFFSETTO:+0100
TZNAME:CET
DTSTART:20231029T010000
END:STANDARD
END:VTIMEZONE
BEGIN:VEVENT
DTSTART;TZID=Europe/Paris:20220204T000000
DTEND;TZID=Europe/Paris:20220204T000000
DTSTAMP:20260421T015421
CREATED:20220111T114833Z
LAST-MODIFIED:20220111T114833Z
UID:7162-1643932800-1643932800@www.marpire.fr
SUMMARY:Soirée jeux avec la Ludothèque de Châteaubourg + crêpes par le P’ty Bistrot
DESCRIPTION:
URL:https://www.marpire.fr/agenda/soiree-jeux-avec-la-ludotheque-de-chateaubourg-crepes-par-le-pty-bistrot/
LOCATION:P’tyBistrot\, Marpiré\, 35220\, France
END:VEVENT
BEGIN:VEVENT
DTSTART;TZID=Europe/Paris:20220204T163000
DTEND;TZID=Europe/Paris:20220204T173000
DTSTAMP:20260421T015421
CREATED:20220111T114620Z
LAST-MODIFIED:20220111T114620Z
UID:7161-1643992200-1643995800@www.marpire.fr
SUMMARY:Vente de gâteaux à l’école.
DESCRIPTION:
URL:https://www.marpire.fr/agenda/vente-de-gateaux-a-lecole/
LOCATION:Ecole
END:VEVENT
BEGIN:VEVENT
DTSTART;TZID=Europe/Paris:20220205T000000
DTEND;TZID=Europe/Paris:20220205T000000
DTSTAMP:20260421T015421
CREATED:20220121T111857Z
LAST-MODIFIED:20220121T111857Z
UID:7210-1644019200-1644019200@www.marpire.fr
SUMMARY:Galette des rois par le sport
DESCRIPTION:
URL:https://www.marpire.fr/agenda/galette-des-rois-par-le-sport/
LOCATION:foyer salle des sports\, Marpiré\, 35220\, France
END:VEVENT
END:VCALENDAR