BEGIN:VCALENDAR
VERSION:2.0
PRODID:-//Marpiré - ECPv6.15.20//NONSGML v1.0//EN
CALSCALE:GREGORIAN
METHOD:PUBLISH
X-WR-CALNAME:Marpiré
X-ORIGINAL-URL:https://www.marpire.fr
X-WR-CALDESC:Évènements pour Marpiré
REFRESH-INTERVAL;VALUE=DURATION:PT1H
X-Robots-Tag:noindex
X-PUBLISHED-TTL:PT1H
BEGIN:VTIMEZONE
TZID:Europe/Paris
BEGIN:DAYLIGHT
TZOFFSETFROM:+0100
TZOFFSETTO:+0200
TZNAME:CEST
DTSTART:20210328T010000
END:DAYLIGHT
BEGIN:STANDARD
TZOFFSETFROM:+0200
TZOFFSETTO:+0100
TZNAME:CET
DTSTART:20211031T010000
END:STANDARD
BEGIN:DAYLIGHT
TZOFFSETFROM:+0100
TZOFFSETTO:+0200
TZNAME:CEST
DTSTART:20220327T010000
END:DAYLIGHT
BEGIN:STANDARD
TZOFFSETFROM:+0200
TZOFFSETTO:+0100
TZNAME:CET
DTSTART:20221030T010000
END:STANDARD
BEGIN:DAYLIGHT
TZOFFSETFROM:+0100
TZOFFSETTO:+0200
TZNAME:CEST
DTSTART:20230326T010000
END:DAYLIGHT
BEGIN:STANDARD
TZOFFSETFROM:+0200
TZOFFSETTO:+0100
TZNAME:CET
DTSTART:20231029T010000
END:STANDARD
END:VTIMEZONE
BEGIN:VEVENT
DTSTART;TZID=Europe/Paris:20220603T190000
DTEND;TZID=Europe/Paris:20220603T230000
DTSTAMP:20260420T201144
CREATED:20220427T104624Z
LAST-MODIFIED:20220427T104624Z
UID:7349-1654282800-1654297200@www.marpire.fr
SUMMARY:Tournoi inter-quartier - AMC Sport
DESCRIPTION:
URL:https://www.marpire.fr/agenda/tournoi-inter-quartier-amc-sport/
LOCATION:salle des sports\, Marpiré\, 35220\, France
END:VEVENT
BEGIN:VEVENT
DTSTART;TZID=Europe/Paris:20220611T110000
DTEND;TZID=Europe/Paris:20220612T190000
DTSTAMP:20260420T201144
CREATED:20220316T113519Z
LAST-MODIFIED:20220316T113519Z
UID:7264-1654945200-1655060400@www.marpire.fr
SUMMARY:Volley: tournoi 3X3 sur herbe
DESCRIPTION:
URL:https://www.marpire.fr/agenda/volley-tournoi-3x3-sur-herbe/
LOCATION:terrain de foot\, Marpiré\, 35220\, France
END:VEVENT
BEGIN:VEVENT
DTSTART;VALUE=DATE:20220626
DTEND;VALUE=DATE:20220627
DTSTAMP:20260420T201144
CREATED:20220624T124526Z
LAST-MODIFIED:20220624T124526Z
UID:7452-1656201600-1656287999@www.marpire.fr
SUMMARY:[Fête de l école]
DESCRIPTION:Dimanche 26 juin \n\n\nProgramme :\nRepas à 12h\nSpectacle des enfants à 15h\nStands de jeu\, restauration et buvette sur place\n\n\nRéservation du repas pour le 16 juin à déposer à EPi service ou dans la boîte aux lettres de l école !\n\n\nLes associations de l école vous attendent nombreux !
URL:https://www.marpire.fr/agenda/fete-de-l-ecole/
END:VEVENT
END:VCALENDAR