BEGIN:VCALENDAR
VERSION:2.0
PRODID:-//Marpiré - ECPv6.15.20//NONSGML v1.0//EN
CALSCALE:GREGORIAN
METHOD:PUBLISH
X-ORIGINAL-URL:https://www.marpire.fr
X-WR-CALDESC:Évènements pour Marpiré
REFRESH-INTERVAL;VALUE=DURATION:PT1H
X-Robots-Tag:noindex
X-PUBLISHED-TTL:PT1H
BEGIN:VTIMEZONE
TZID:Europe/Paris
BEGIN:DAYLIGHT
TZOFFSETFROM:+0100
TZOFFSETTO:+0200
TZNAME:CEST
DTSTART:20210328T010000
END:DAYLIGHT
BEGIN:STANDARD
TZOFFSETFROM:+0200
TZOFFSETTO:+0100
TZNAME:CET
DTSTART:20211031T010000
END:STANDARD
BEGIN:DAYLIGHT
TZOFFSETFROM:+0100
TZOFFSETTO:+0200
TZNAME:CEST
DTSTART:20220327T010000
END:DAYLIGHT
BEGIN:STANDARD
TZOFFSETFROM:+0200
TZOFFSETTO:+0100
TZNAME:CET
DTSTART:20221030T010000
END:STANDARD
BEGIN:DAYLIGHT
TZOFFSETFROM:+0100
TZOFFSETTO:+0200
TZNAME:CEST
DTSTART:20230326T010000
END:DAYLIGHT
BEGIN:STANDARD
TZOFFSETFROM:+0200
TZOFFSETTO:+0100
TZNAME:CET
DTSTART:20231029T010000
END:STANDARD
END:VTIMEZONE
BEGIN:VEVENT
DTSTART;TZID=Europe/Paris:20221007T203000
DTEND;TZID=Europe/Paris:20221007T230000
DTSTAMP:20260420T142736
CREATED:20221004T102237Z
LAST-MODIFIED:20221004T102237Z
UID:7507-1665174600-1665183600@www.marpire.fr
SUMMARY:Soirée autour des cartes
DESCRIPTION:
URL:https://www.marpire.fr/agenda/soiree-autour-des-cartes/
LOCATION:P’tyBistrot\, Marpiré\, 35220\, France
END:VEVENT
BEGIN:VEVENT
DTSTART;TZID=Europe/Paris:20221015T084500
DTEND;TZID=Europe/Paris:20221015T120000
DTSTAMP:20260420T142736
CREATED:20221004T101908Z
LAST-MODIFIED:20221004T101908Z
UID:7505-1665823500-1665835200@www.marpire.fr
SUMMARY:Journée Citoyenne
DESCRIPTION:
URL:https://www.marpire.fr/agenda/journee-citoyenne-2/
LOCATION:Salle des fêtes\, Marpiré\, 35220
END:VEVENT
BEGIN:VEVENT
DTSTART;TZID=Europe/Paris:20221021T163000
DTEND;TZID=Europe/Paris:20221021T180000
DTSTAMP:20260420T142736
CREATED:20221018T103910Z
LAST-MODIFIED:20221018T103910Z
UID:7549-1666369800-1666375200@www.marpire.fr
SUMMARY:Vente de l'Automne
DESCRIPTION:
URL:https://www.marpire.fr/agenda/vente-de-lautomne/
LOCATION:Ecole
END:VEVENT
END:VCALENDAR